BEGIN:VCALENDAR
VERSION:2.0
PRODID:-//District 35 Toastmasters - ECPv6.15.20//NONSGML v1.0//EN
CALSCALE:GREGORIAN
METHOD:PUBLISH
X-WR-CALNAME:District 35 Toastmasters
X-ORIGINAL-URL:https://district35.org
X-WR-CALDESC:Events for District 35 Toastmasters
REFRESH-INTERVAL;VALUE=DURATION:PT1H
X-Robots-Tag:noindex
X-PUBLISHED-TTL:PT1H
BEGIN:VTIMEZONE
TZID:America/Chicago
BEGIN:DAYLIGHT
TZOFFSETFROM:-0600
TZOFFSETTO:-0500
TZNAME:CDT
DTSTART:20250309T080000
END:DAYLIGHT
BEGIN:STANDARD
TZOFFSETFROM:-0500
TZOFFSETTO:-0600
TZNAME:CST
DTSTART:20251102T070000
END:STANDARD
BEGIN:DAYLIGHT
TZOFFSETFROM:-0600
TZOFFSETTO:-0500
TZNAME:CDT
DTSTART:20260308T080000
END:DAYLIGHT
BEGIN:STANDARD
TZOFFSETFROM:-0500
TZOFFSETTO:-0600
TZNAME:CST
DTSTART:20261101T070000
END:STANDARD
BEGIN:DAYLIGHT
TZOFFSETFROM:-0600
TZOFFSETTO:-0500
TZNAME:CDT
DTSTART:20270314T080000
END:DAYLIGHT
BEGIN:STANDARD
TZOFFSETFROM:-0500
TZOFFSETTO:-0600
TZNAME:CST
DTSTART:20271107T070000
END:STANDARD
END:VTIMEZONE
BEGIN:VEVENT
DTSTART;TZID=America/Chicago:20260207T090000
DTEND;TZID=America/Chicago:20260207T143000
DTSTAMP:20260420T145741
CREATED:20251115T234104Z
LAST-MODIFIED:20260203T233813Z
UID:21942-1770454800-1770474600@district35.org
SUMMARY:Combined Areas speech contest: A1\, A2\, A3\, & A4
DESCRIPTION:TIMEFRAME\n9:00    Doors open and room setup begins\n9:15    BRIEFING for Contestants – in the 1st floor contest room\n9:15    BRIEFING for Timers\, Ballot counters\, and Judges – in a room upstairs\n10:00  Contest begins\n2:00    Goal for approximate ending timeA1\, A2\, A3\, & A4 combined speech contest \nNew Berlin library \n15105 Library Lane
URL:https://district35.org/event/area-a3-speech-contest/
CATEGORIES:District 35
END:VEVENT
BEGIN:VEVENT
DTSTART;TZID=America/Chicago:20260207T110000
DTEND;TZID=America/Chicago:20260207T140000
DTSTAMP:20260420T145741
CREATED:20251120T193920Z
LAST-MODIFIED:20260130T031601Z
UID:21976-1770462000-1770472800@district35.org
SUMMARY:Central Division Combined Area C1\,C2\,C3\, & C5 Contest
DESCRIPTION:Fitchburg Public Library\n\n\n5530 Lacy Rd\, Fitchburg\, WI 53711 \n\n\nDoors Open at 10 am\n \nContest Runs From 11am-2pm \n \nArea Contest Chair  Spring Sun springxsun@gmail.com\n \nArea Director Contact Robert Lambert earnhardtfan24@frontier.com
URL:https://district35.org/event/central-division-combined-area-c1c2c3-contest/
CATEGORIES:District 35
END:VEVENT
BEGIN:VEVENT
DTSTART;TZID=America/Chicago:20260214T090000
DTEND;TZID=America/Chicago:20260214T130000
DTSTAMP:20260420T145741
CREATED:20250708T004520Z
LAST-MODIFIED:20250708T015407Z
UID:21399-1771059600-1771074000@district35.org
SUMMARY:February DEC meeting
DESCRIPTION:February DEC meeting \n 
URL:https://district35.org/event/february-dec-meeting/
CATEGORIES:District 35
END:VEVENT
BEGIN:VEVENT
DTSTART;TZID=America/Chicago:20260214T140000
DTEND;TZID=America/Chicago:20260214T170000
DTSTAMP:20260420T145741
CREATED:20251213T170520Z
LAST-MODIFIED:20260117T163723Z
UID:22123-1771077600-1771088400@district35.org
SUMMARY:Combined Areas speech contest: E1\,E2\,E3\,E4
DESCRIPTION:Combined Areas speech contest: E1\,E2\,E3\,E4 \nCoughlin Center \n625 E County RD Y \nOshkosh\, WI 54901
URL:https://district35.org/event/combined-areas-speech-contest-e1e2e3e4/
CATEGORIES:District 35
END:VEVENT
BEGIN:VEVENT
DTSTART;TZID=America/Chicago:20260219T180000
DTEND;TZID=America/Chicago:20260219T213000
DTSTAMP:20260420T145741
CREATED:20251028T214212Z
LAST-MODIFIED:20251125T004630Z
UID:21933-1771524000-1771536600@district35.org
SUMMARY:Virtual Club Officer Training
DESCRIPTION:Registration: \nhttps://us02web.zoom.us/meeting/register/QofQz-jqR2GpqfdLBP0U2g \nMeeting Registration – Zoom
URL:https://district35.org/event/virtual-club-officer-training-3/
CATEGORIES:District 35
END:VEVENT
BEGIN:VEVENT
DTSTART;TZID=America/Chicago:20260228T080000
DTEND;TZID=America/Chicago:20260228T170000
DTSTAMP:20260420T145741
CREATED:20260228T060004Z
LAST-MODIFIED:20251213T025408Z
UID:22118-1772265600-1772298000@district35.org
SUMMARY:Area D speech contest
DESCRIPTION:Area D speech contest \ntimes & location TBA
URL:https://district35.org/event/area-d-speech-contest/
CATEGORIES:District 35
END:VEVENT
BEGIN:VEVENT
DTSTART;TZID=America/Chicago:20260228T090000
DTEND;TZID=America/Chicago:20260228T230000
DTSTAMP:20260420T145741
CREATED:20251209T193707Z
LAST-MODIFIED:20260205T015259Z
UID:22111-1772269200-1772319600@district35.org
SUMMARY:C4 Area clubs contest
DESCRIPTION:LaCrosse\, Reedsburg\, Coulee Region\, and Rolling Hills Toastmasters Clubs \nNew House Richland \n26700 Fellowship Lane \n  \n\n9 a.m. doors open contestants\n9:15 a.m. briefings begin for contestants\, judges\, times\, and ballot counters\n\n9:45 a.m. contest begins
URL:https://district35.org/event/c4-area-combined-clubs-contest/
CATEGORIES:District 35
END:VEVENT
BEGIN:VEVENT
DTSTART;TZID=America/Chicago:20260228T100000
DTEND;TZID=America/Chicago:20260228T133000
DTSTAMP:20260420T145741
CREATED:20251213T025652Z
LAST-MODIFIED:20260213T233128Z
UID:22121-1772272800-1772285400@district35.org
SUMMARY:Combined Areas in Division D speech contest
DESCRIPTION:Doors open at 9am\, Contest starts at 10:00am\n\n\n\n\n\n\nContest starts at 10am\, Briefings for Contestants and Briefings for Judges\, timer\, ballot counters is 9:30 AM\n\n\n\n\nat\nZablocki Library –\n3501 W. Oklahoma Ave.\nMilwaukee\, WI 53215\n\n\n\n\n\n\nWe are to leave at/by 1:30pm.\n 
URL:https://district35.org/event/area-d-speech-contest-2/
CATEGORIES:District 35
END:VEVENT
END:VCALENDAR