BEGIN:VCALENDAR
VERSION:2.0
PRODID:-//District 35 Toastmasters - ECPv6.15.20//NONSGML v1.0//EN
CALSCALE:GREGORIAN
METHOD:PUBLISH
X-WR-CALNAME:District 35 Toastmasters
X-ORIGINAL-URL:https://district35.org
X-WR-CALDESC:Events for District 35 Toastmasters
REFRESH-INTERVAL;VALUE=DURATION:PT1H
X-Robots-Tag:noindex
X-PUBLISHED-TTL:PT1H
BEGIN:VTIMEZONE
TZID:America/Chicago
BEGIN:DAYLIGHT
TZOFFSETFROM:-0600
TZOFFSETTO:-0500
TZNAME:CDT
DTSTART:20250309T080000
END:DAYLIGHT
BEGIN:STANDARD
TZOFFSETFROM:-0500
TZOFFSETTO:-0600
TZNAME:CST
DTSTART:20251102T070000
END:STANDARD
BEGIN:DAYLIGHT
TZOFFSETFROM:-0600
TZOFFSETTO:-0500
TZNAME:CDT
DTSTART:20260308T080000
END:DAYLIGHT
BEGIN:STANDARD
TZOFFSETFROM:-0500
TZOFFSETTO:-0600
TZNAME:CST
DTSTART:20261101T070000
END:STANDARD
BEGIN:DAYLIGHT
TZOFFSETFROM:-0600
TZOFFSETTO:-0500
TZNAME:CDT
DTSTART:20270314T080000
END:DAYLIGHT
BEGIN:STANDARD
TZOFFSETFROM:-0500
TZOFFSETTO:-0600
TZNAME:CST
DTSTART:20271107T070000
END:STANDARD
END:VTIMEZONE
BEGIN:VEVENT
DTSTART;TZID=America/Chicago:20260103T090000
DTEND;TZID=America/Chicago:20260103T123000
DTSTAMP:20260420T125543
CREATED:20251028T213939Z
LAST-MODIFIED:20251125T004249Z
UID:21928-1767430800-1767443400@district35.org
SUMMARY:Virtual Club Officer Training
DESCRIPTION:Registration: \nhttps://us02web.zoom.us/meeting/register/wiLPzP0qRc6Cs3R6MoAOqQ \nMeeting Registration – Zoom
URL:https://district35.org/event/virtual-club-officer-training/
CATEGORIES:District 35
END:VEVENT
BEGIN:VEVENT
DTSTART;TZID=America/Chicago:20260117T090000
DTEND;TZID=America/Chicago:20260117T130000
DTSTAMP:20260420T125543
CREATED:20250708T004354Z
LAST-MODIFIED:20251213T190315Z
UID:21397-1768640400-1768654800@district35.org
SUMMARY:January DEC meeting
DESCRIPTION:January DEC meeting \n 
URL:https://district35.org/event/january-dec-meeting/
CATEGORIES:District 35
END:VEVENT
BEGIN:VEVENT
DTSTART;TZID=America/Chicago:20260118T170000
DTEND;TZID=America/Chicago:20260118T180000
DTSTAMP:20260420T125543
CREATED:20251223T025342Z
LAST-MODIFIED:20251223T025342Z
UID:22141-1768755600-1768759200@district35.org
SUMMARY:Contest training: voting judges
DESCRIPTION:Contest training: voting judges\n\nSunday\, January 18\, 5pm-6pm\n\nWhether you have been a voting judge at a speech contest or not\, there is a lot to think about to make the contest fair and enjoyable for all. Attend this training by Keith Cumiskey\, Past District Director\, to become more comfortable with the role\, practice communication and add to your leadership arsenal.\nZoom Registration link: https://us02web.zoom.us/meeting/register/SP_KyGCAQKKNLroyL40tkQ
URL:https://district35.org/event/contest-training-voting-judges/
CATEGORIES:District 35
END:VEVENT
BEGIN:VEVENT
DTSTART;TZID=America/Chicago:20260118T183000
DTEND;TZID=America/Chicago:20260118T193000
DTSTAMP:20260420T125543
CREATED:20260107T190322Z
LAST-MODIFIED:20260107T190322Z
UID:22151-1768761000-1768764600@district35.org
SUMMARY:Humorous Speech Extravaganza
DESCRIPTION:Humorous Speech Extravaganza \nBefore the area Humorous speech contests begin in February\, come learn what makes a fantastic humorous speech. Listen to a marvelous speech by Jackie Scott\, of the Laugh of Laughter Club\, and get your questions answered. Get inspired to craft your own speech. Humorous speech contest is a wonderful way to go beyond your club\, try humor before a new audience\, and become more confident in yourself. Perhaps you will find yourself sharing your story in your circle of family and friends and then be invited to entertain at the next block party!\n\n\nZoom Registration: https://us02web.zoom.us/meeting/register/3MJ-CRKuQTOaDH2NBff2TA\nPlease look for an email from Zoom confirming the registration. This should happen within 5 minutes\, or sooner\, of registration.
URL:https://district35.org/event/humorous-speech-extravaganza/
CATEGORIES:District 35
END:VEVENT
BEGIN:VEVENT
DTSTART;TZID=America/Chicago:20260122T190000
DTEND;TZID=America/Chicago:20260122T200000
DTSTAMP:20260420T125543
CREATED:20251223T025501Z
LAST-MODIFIED:20251223T025501Z
UID:22143-1769108400-1769112000@district35.org
SUMMARY:Contest training: area contest chief judge
DESCRIPTION:Contest training: area contest chief judge\nThursday\, January 22\, 7pm-8pm\nBeing an chief judge at an area contest is exciting\, challenging\, and a terrific leadership experience. If you have never been a chief judge\, that is okay\, this training is for you. If you have been a chief judge this is a good refresher. Attend this training by Paul Freiberg to become more comfortable with the role and make the contest fair and enjoyable for all.\nZoom Registration link: https://us02web.zoom.us/meeting/register/4mQQ-2G9QW-z0Ssok60gnA
URL:https://district35.org/event/contest-training-area-contest-chief-judge/
CATEGORIES:District 35
END:VEVENT
BEGIN:VEVENT
DTSTART;TZID=America/Chicago:20260125T180000
DTEND;TZID=America/Chicago:20260125T190000
DTSTAMP:20260420T125543
CREATED:20251223T025613Z
LAST-MODIFIED:20251223T025613Z
UID:22145-1769364000-1769367600@district35.org
SUMMARY:Contest training: Contest master
DESCRIPTION:Contest training: Contest master\nSunday\, January 25\, 6pm-7pm\nBeing a contest master at an area contest is similar to being the Toastmaster of a club meeting. However\, there are additional guidelines in place. More importantly\, contest master is the person making the event fair and enjoyable for all. Attend this training by Amy Linn-Strosin and learn strategies to deal with any contest challenge\, have fun conversations with people (contestant interviews)\, and practice leadership.\nZoom Registration link: https://us02web.zoom.us/meeting/register/BLkijA1KQ2ukphGj0Do9CQ
URL:https://district35.org/event/contest-training-contest-master/
CATEGORIES:District 35
END:VEVENT
BEGIN:VEVENT
DTSTART;TZID=America/Chicago:20260129T180000
DTEND;TZID=America/Chicago:20260129T213000
DTSTAMP:20260420T125543
CREATED:20251028T214104Z
LAST-MODIFIED:20251125T004513Z
UID:21931-1769709600-1769722200@district35.org
SUMMARY:Virtual Club Officer Training
DESCRIPTION:Registration: \nhttps://us02web.zoom.us/meeting/register/YgQUU6IDS_KwH5xk0Trd1Q \nMeeting Registration – Zoom
URL:https://district35.org/event/virtual-club-officer-training-2/
CATEGORIES:District 35
END:VEVENT
END:VCALENDAR