BEGIN:VCALENDAR
VERSION:2.0
PRODID:-//District 35 Toastmasters - ECPv6.15.20//NONSGML v1.0//EN
CALSCALE:GREGORIAN
METHOD:PUBLISH
X-WR-CALNAME:District 35 Toastmasters
X-ORIGINAL-URL:https://district35.org
X-WR-CALDESC:Events for District 35 Toastmasters
REFRESH-INTERVAL;VALUE=DURATION:PT1H
X-Robots-Tag:noindex
X-PUBLISHED-TTL:PT1H
BEGIN:VTIMEZONE
TZID:America/Chicago
BEGIN:DAYLIGHT
TZOFFSETFROM:-0600
TZOFFSETTO:-0500
TZNAME:CDT
DTSTART:20250309T080000
END:DAYLIGHT
BEGIN:STANDARD
TZOFFSETFROM:-0500
TZOFFSETTO:-0600
TZNAME:CST
DTSTART:20251102T070000
END:STANDARD
BEGIN:DAYLIGHT
TZOFFSETFROM:-0600
TZOFFSETTO:-0500
TZNAME:CDT
DTSTART:20260308T080000
END:DAYLIGHT
BEGIN:STANDARD
TZOFFSETFROM:-0500
TZOFFSETTO:-0600
TZNAME:CST
DTSTART:20261101T070000
END:STANDARD
BEGIN:DAYLIGHT
TZOFFSETFROM:-0600
TZOFFSETTO:-0500
TZNAME:CDT
DTSTART:20270314T080000
END:DAYLIGHT
BEGIN:STANDARD
TZOFFSETFROM:-0500
TZOFFSETTO:-0600
TZNAME:CST
DTSTART:20271107T070000
END:STANDARD
END:VTIMEZONE
BEGIN:VEVENT
DTSTART;TZID=America/Chicago:20260412T180000
DTEND;TZID=America/Chicago:20260412T190000
DTSTAMP:20260420T225527
CREATED:20260406T193618Z
LAST-MODIFIED:20260406T193643Z
UID:22445-1776016800-1776020400@district35.org
SUMMARY:New Member Orientation
DESCRIPTION:You are a part of something BIG!\n\nFrom the history of Toastmasters to easily finding speech topics to leadership opportunities beyond club setting\, this action packed hour has it all. Meant for new members but highly recommended for anyone curious about the wide world of Toastmasters. Come learn\, meet fellow club members\, current and past District leaders\, and come away with ideas for your next club new member orientation.\n\nRegistration: https://us02web.zoom.us/meeting/register/-YhWj70vSS6qQcfmTkYLhA
URL:https://district35.org/event/new-member-orientation/
CATEGORIES:District 35
END:VEVENT
END:VCALENDAR