BEGIN:VCALENDAR
VERSION:2.0
PRODID:-//District 35 Toastmasters - ECPv6.15.20//NONSGML v1.0//EN
CALSCALE:GREGORIAN
METHOD:PUBLISH
X-ORIGINAL-URL:https://district35.org
X-WR-CALDESC:Events for District 35 Toastmasters
REFRESH-INTERVAL;VALUE=DURATION:PT1H
X-Robots-Tag:noindex
X-PUBLISHED-TTL:PT1H
BEGIN:VTIMEZONE
TZID:America/Chicago
BEGIN:DAYLIGHT
TZOFFSETFROM:-0600
TZOFFSETTO:-0500
TZNAME:CDT
DTSTART:20240310T080000
END:DAYLIGHT
BEGIN:STANDARD
TZOFFSETFROM:-0500
TZOFFSETTO:-0600
TZNAME:CST
DTSTART:20241103T070000
END:STANDARD
BEGIN:DAYLIGHT
TZOFFSETFROM:-0600
TZOFFSETTO:-0500
TZNAME:CDT
DTSTART:20250309T080000
END:DAYLIGHT
BEGIN:STANDARD
TZOFFSETFROM:-0500
TZOFFSETTO:-0600
TZNAME:CST
DTSTART:20251102T070000
END:STANDARD
BEGIN:DAYLIGHT
TZOFFSETFROM:-0600
TZOFFSETTO:-0500
TZNAME:CDT
DTSTART:20260308T080000
END:DAYLIGHT
BEGIN:STANDARD
TZOFFSETFROM:-0500
TZOFFSETTO:-0600
TZNAME:CST
DTSTART:20261101T070000
END:STANDARD
END:VTIMEZONE
BEGIN:VEVENT
DTSTART;TZID=America/Chicago:20251206T090000
DTEND;TZID=America/Chicago:20251206T120000
DTSTAMP:20260420T212026
CREATED:20251119T004926Z
LAST-MODIFIED:20251120T013401Z
UID:21973-1765011600-1765022400@district35.org
SUMMARY:Intro to Leadership
DESCRIPTION:Learn about leadership skills\, tools and concepts ahead of taking your next step.  Teamwork\, sharing your vision and building success are all part of leadership — hear about how to identify\, develop and exercise these skills in your job\, your community and your Toastmasters experience! \nSessions include: \n\n\n\n Leadership in the team environment\n\n  Characteristics of effective leaders\n\n  Developing your leadership skills\n\n  Improving management skills\n\n  The runway:  Frontloading for success.\n\n\n\nThis is NOT an officer training/TLI\, it is not part of your club success program. It IS a great opportunity to focus on your goals and how to accomplish them! \n  \nRegister https://us02web.zoom.us/meeting/register/pdB8_LyxQ7m_XVRU_0BXrA \nand we will see you on December 6!
URL:https://district35.org/event/intro-to-leadership/
CATEGORIES:District 35
END:VEVENT
END:VCALENDAR