BEGIN:VCALENDAR
VERSION:2.0
PRODID:-//District 35 Toastmasters - ECPv6.15.20//NONSGML v1.0//EN
CALSCALE:GREGORIAN
METHOD:PUBLISH
X-WR-CALNAME:District 35 Toastmasters
X-ORIGINAL-URL:https://district35.org
X-WR-CALDESC:Events for District 35 Toastmasters
REFRESH-INTERVAL;VALUE=DURATION:PT1H
X-Robots-Tag:noindex
X-PUBLISHED-TTL:PT1H
BEGIN:VTIMEZONE
TZID:America/Chicago
BEGIN:DAYLIGHT
TZOFFSETFROM:-0600
TZOFFSETTO:-0500
TZNAME:CDT
DTSTART:20240310T080000
END:DAYLIGHT
BEGIN:STANDARD
TZOFFSETFROM:-0500
TZOFFSETTO:-0600
TZNAME:CST
DTSTART:20241103T070000
END:STANDARD
BEGIN:DAYLIGHT
TZOFFSETFROM:-0600
TZOFFSETTO:-0500
TZNAME:CDT
DTSTART:20250309T080000
END:DAYLIGHT
BEGIN:STANDARD
TZOFFSETFROM:-0500
TZOFFSETTO:-0600
TZNAME:CST
DTSTART:20251102T070000
END:STANDARD
BEGIN:DAYLIGHT
TZOFFSETFROM:-0600
TZOFFSETTO:-0500
TZNAME:CDT
DTSTART:20260308T080000
END:DAYLIGHT
BEGIN:STANDARD
TZOFFSETFROM:-0500
TZOFFSETTO:-0600
TZNAME:CST
DTSTART:20261101T070000
END:STANDARD
END:VTIMEZONE
BEGIN:VEVENT
DTSTART;TZID=America/Chicago:20251115T123000
DTEND;TZID=America/Chicago:20251115T163000
DTSTAMP:20260420T211531
CREATED:20251015T224804Z
LAST-MODIFIED:20251015T224804Z
UID:21896-1763209800-1763224200@district35.org
SUMMARY:In-person Toastmasters Leadership Institute and Club Officer Training
DESCRIPTION:In-person Toastmasters Leadership Institute and Club Officer Training\n\nSaturday\, November 15\n12:30pm-4:15pm\nCommunity Room at the New Berlin Library\, 15105 W. Library Lane\, New Berlin\, WI 53151\n\nRegister here: https://forms.gle/qFmRDyRMKWfFU3iC9\n\nContact Yuriy Ksenidi\, Program Quality Director\, for more information: warhawkforlife@gmail.com
URL:https://district35.org/event/in-person-toastmasters-leadership-institute-and-club-officer-training/
CATEGORIES:District 35
END:VEVENT
END:VCALENDAR