BEGIN:VCALENDAR
VERSION:2.0
PRODID:-//District 35 Toastmasters - ECPv6.15.20//NONSGML v1.0//EN
CALSCALE:GREGORIAN
METHOD:PUBLISH
X-ORIGINAL-URL:https://district35.org
X-WR-CALDESC:Events for District 35 Toastmasters
REFRESH-INTERVAL;VALUE=DURATION:PT1H
X-Robots-Tag:noindex
X-PUBLISHED-TTL:PT1H
BEGIN:VTIMEZONE
TZID:America/Chicago
BEGIN:DAYLIGHT
TZOFFSETFROM:-0600
TZOFFSETTO:-0500
TZNAME:CDT
DTSTART:20240310T080000
END:DAYLIGHT
BEGIN:STANDARD
TZOFFSETFROM:-0500
TZOFFSETTO:-0600
TZNAME:CST
DTSTART:20241103T070000
END:STANDARD
BEGIN:DAYLIGHT
TZOFFSETFROM:-0600
TZOFFSETTO:-0500
TZNAME:CDT
DTSTART:20250309T080000
END:DAYLIGHT
BEGIN:STANDARD
TZOFFSETFROM:-0500
TZOFFSETTO:-0600
TZNAME:CST
DTSTART:20251102T070000
END:STANDARD
BEGIN:DAYLIGHT
TZOFFSETFROM:-0600
TZOFFSETTO:-0500
TZNAME:CDT
DTSTART:20260308T080000
END:DAYLIGHT
BEGIN:STANDARD
TZOFFSETFROM:-0500
TZOFFSETTO:-0600
TZNAME:CST
DTSTART:20261101T070000
END:STANDARD
END:VTIMEZONE
BEGIN:VEVENT
DTSTART;TZID=America/Chicago:20251028T181500
DTEND;TZID=America/Chicago:20251028T203000
DTSTAMP:20260420T192617
CREATED:20250917T170615Z
LAST-MODIFIED:20250917T172105Z
UID:21845-1761675300-1761683400@district35.org
SUMMARY:Fox Speaks Toastmasters Spook-a-Thon
DESCRIPTION:Fox Speaks Toastmasters Spook-a-Thon \nMenasha Festival Foods \n1355 Oneida St. \nMenasha\, WI 54952 \n  \nJoin us in person or on Google Meets for our Annual Halloween Humor and Family Friendly Spook-a-Thon.  Costumes are desired but not required.  Feel free to bring a friend. \nThere will be time to show off your costume\, meet new people\, free snacks\, and share fun Halloween Tales.
URL:https://district35.org/event/fox-speaks-toastmasters-spook-a-thon/
CATEGORIES:District 35
END:VEVENT
END:VCALENDAR