BEGIN:VCALENDAR
VERSION:2.0
PRODID:-//District 35 Toastmasters - ECPv6.15.20//NONSGML v1.0//EN
CALSCALE:GREGORIAN
METHOD:PUBLISH
X-ORIGINAL-URL:https://district35.org
X-WR-CALDESC:Events for District 35 Toastmasters
REFRESH-INTERVAL;VALUE=DURATION:PT1H
X-Robots-Tag:noindex
X-PUBLISHED-TTL:PT1H
BEGIN:VTIMEZONE
TZID:America/Chicago
BEGIN:DAYLIGHT
TZOFFSETFROM:-0600
TZOFFSETTO:-0500
TZNAME:CDT
DTSTART:20240310T080000
END:DAYLIGHT
BEGIN:STANDARD
TZOFFSETFROM:-0500
TZOFFSETTO:-0600
TZNAME:CST
DTSTART:20241103T070000
END:STANDARD
BEGIN:DAYLIGHT
TZOFFSETFROM:-0600
TZOFFSETTO:-0500
TZNAME:CDT
DTSTART:20250309T080000
END:DAYLIGHT
BEGIN:STANDARD
TZOFFSETFROM:-0500
TZOFFSETTO:-0600
TZNAME:CST
DTSTART:20251102T070000
END:STANDARD
BEGIN:DAYLIGHT
TZOFFSETFROM:-0600
TZOFFSETTO:-0500
TZNAME:CDT
DTSTART:20260308T080000
END:DAYLIGHT
BEGIN:STANDARD
TZOFFSETFROM:-0500
TZOFFSETTO:-0600
TZNAME:CST
DTSTART:20261101T070000
END:STANDARD
END:VTIMEZONE
BEGIN:VEVENT
DTSTART;TZID=America/Chicago:20251023T190000
DTEND;TZID=America/Chicago:20251023T203000
DTSTAMP:20260420T192704
CREATED:20250811T181837Z
LAST-MODIFIED:20250811T181837Z
UID:21621-1761246000-1761251400@district35.org
SUMMARY:Session 3: Pathways 301 (for all club officers – you are ALL base camp managers)
DESCRIPTION:Session 3: Pathways 301 (for all club officers – you are ALL base camp managers) \n\nHow to approve or deny a level completion\nSubmitting letter of recognition to an employer (Levels 3-5)\nViewing a member’s progress through a path\nGive recognition at a meeting (with a member’s certificate of completion)\n\n\n  \nJoin Zoom Meeting\nhttps://us06web.zoom.us/j/87695273121?pwd=2CT483esWI8QWJwLQPQXeWYK5L86BJ.1 \nMeeting ID: 876 9527 3121\nPasscode: 110202 \nZoom room will open about 10 minutes before 7pm
URL:https://district35.org/event/session-3-pathways-301-for-all-club-officers-you-are-all-base-camp-managers/
CATEGORIES:District 35
END:VEVENT
END:VCALENDAR