BEGIN:VCALENDAR
VERSION:2.0
PRODID:-//District 35 Toastmasters - ECPv6.15.20//NONSGML v1.0//EN
CALSCALE:GREGORIAN
METHOD:PUBLISH
X-ORIGINAL-URL:https://district35.org
X-WR-CALDESC:Events for District 35 Toastmasters
REFRESH-INTERVAL;VALUE=DURATION:PT1H
X-Robots-Tag:noindex
X-PUBLISHED-TTL:PT1H
BEGIN:VTIMEZONE
TZID:America/Chicago
BEGIN:DAYLIGHT
TZOFFSETFROM:-0600
TZOFFSETTO:-0500
TZNAME:CDT
DTSTART:20240310T080000
END:DAYLIGHT
BEGIN:STANDARD
TZOFFSETFROM:-0500
TZOFFSETTO:-0600
TZNAME:CST
DTSTART:20241103T070000
END:STANDARD
BEGIN:DAYLIGHT
TZOFFSETFROM:-0600
TZOFFSETTO:-0500
TZNAME:CDT
DTSTART:20250309T080000
END:DAYLIGHT
BEGIN:STANDARD
TZOFFSETFROM:-0500
TZOFFSETTO:-0600
TZNAME:CST
DTSTART:20251102T070000
END:STANDARD
BEGIN:DAYLIGHT
TZOFFSETFROM:-0600
TZOFFSETTO:-0500
TZNAME:CDT
DTSTART:20260308T080000
END:DAYLIGHT
BEGIN:STANDARD
TZOFFSETFROM:-0500
TZOFFSETTO:-0600
TZNAME:CST
DTSTART:20261101T070000
END:STANDARD
END:VTIMEZONE
BEGIN:VEVENT
DTSTART;TZID=America/Chicago:20250925T190000
DTEND;TZID=America/Chicago:20250925T203000
DTSTAMP:20260420T173454
CREATED:20250811T181431Z
LAST-MODIFIED:20250811T181431Z
UID:21617-1758826800-1758832200@district35.org
SUMMARY:Session 1: Pathways 101
DESCRIPTION:Session 1: Pathways 101 \n\nThe Navigator resource\nUnderstanding Base Camp options\nPurchasing a path\nLaunching a project\, including:\n\nReviewing content\nUpdating speech log\nMark project as complete\n\n\nEntering meeting roles held (different from FTH meeting agenda tracking)\nMarking your completed level as complete (and how that helps your club)\n\n  \nJoin Zoom Meeting (same link for all three Thursday sessions)\nhttps://us06web.zoom.us/j/87695273121?pwd=2CT483esWI8QWJwLQPQXeWYK5L86BJ.1 \nMeeting ID: 876 9527 3121\nPasscode: 110202 \nZoom room will open about 10 minutes before 7pm \n 
URL:https://district35.org/event/session-1-pathways-101/
CATEGORIES:District 35
END:VEVENT
END:VCALENDAR