BEGIN:VCALENDAR
VERSION:2.0
PRODID:-//District 35 Toastmasters - ECPv6.15.20//NONSGML v1.0//EN
CALSCALE:GREGORIAN
METHOD:PUBLISH
X-WR-CALNAME:District 35 Toastmasters
X-ORIGINAL-URL:https://district35.org
X-WR-CALDESC:Events for District 35 Toastmasters
REFRESH-INTERVAL;VALUE=DURATION:PT1H
X-Robots-Tag:noindex
X-PUBLISHED-TTL:PT1H
BEGIN:VTIMEZONE
TZID:America/Chicago
BEGIN:DAYLIGHT
TZOFFSETFROM:-0600
TZOFFSETTO:-0500
TZNAME:CDT
DTSTART:20240310T080000
END:DAYLIGHT
BEGIN:STANDARD
TZOFFSETFROM:-0500
TZOFFSETTO:-0600
TZNAME:CST
DTSTART:20241103T070000
END:STANDARD
BEGIN:DAYLIGHT
TZOFFSETFROM:-0600
TZOFFSETTO:-0500
TZNAME:CDT
DTSTART:20250309T080000
END:DAYLIGHT
BEGIN:STANDARD
TZOFFSETFROM:-0500
TZOFFSETTO:-0600
TZNAME:CST
DTSTART:20251102T070000
END:STANDARD
BEGIN:DAYLIGHT
TZOFFSETFROM:-0600
TZOFFSETTO:-0500
TZNAME:CDT
DTSTART:20260308T080000
END:DAYLIGHT
BEGIN:STANDARD
TZOFFSETFROM:-0500
TZOFFSETTO:-0600
TZNAME:CST
DTSTART:20261101T070000
END:STANDARD
END:VTIMEZONE
BEGIN:VEVENT
DTSTART;TZID=America/Chicago:20250914T190000
DTEND;TZID=America/Chicago:20250914T203000
DTSTAMP:20260420T172653
CREATED:20250811T181215Z
LAST-MODIFIED:20250811T181215Z
UID:21615-1757876400-1757881800@district35.org
SUMMARY:Connecting the Dots: Pathways\, CSP\, and DCP
DESCRIPTION:Connecting the Dots: Pathways\, CSP\, and DCP \n\nHow the three “programs” interact and affect the other\nThink beyond “check the box” and focus on the skills learned and meeting the member needs. When member needs and goals are met\, that builds into the club goals being met.\n\n  \nJoin Zoom Meeting\nhttps://us06web.zoom.us/j/84977920900?pwd=g5bUF5Igc1MVLu2p3VUMfsE9DbAbeU.1 \nMeeting ID: 849 7792 0900\nPasscode: 777291 \nZoom room will open about 10 minutes before 7pm
URL:https://district35.org/event/connecting-the-dots-pathways-csp-and-dcp/
CATEGORIES:District 35
END:VEVENT
END:VCALENDAR