BEGIN:VCALENDAR
VERSION:2.0
PRODID:-//District 35 Toastmasters - ECPv6.15.20//NONSGML v1.0//EN
CALSCALE:GREGORIAN
METHOD:PUBLISH
X-ORIGINAL-URL:https://district35.org
X-WR-CALDESC:Events for District 35 Toastmasters
REFRESH-INTERVAL;VALUE=DURATION:PT1H
X-Robots-Tag:noindex
X-PUBLISHED-TTL:PT1H
BEGIN:VTIMEZONE
TZID:America/Chicago
BEGIN:DAYLIGHT
TZOFFSETFROM:-0600
TZOFFSETTO:-0500
TZNAME:CDT
DTSTART:20240310T080000
END:DAYLIGHT
BEGIN:STANDARD
TZOFFSETFROM:-0500
TZOFFSETTO:-0600
TZNAME:CST
DTSTART:20241103T070000
END:STANDARD
BEGIN:DAYLIGHT
TZOFFSETFROM:-0600
TZOFFSETTO:-0500
TZNAME:CDT
DTSTART:20250309T080000
END:DAYLIGHT
BEGIN:STANDARD
TZOFFSETFROM:-0500
TZOFFSETTO:-0600
TZNAME:CST
DTSTART:20251102T070000
END:STANDARD
BEGIN:DAYLIGHT
TZOFFSETFROM:-0600
TZOFFSETTO:-0500
TZNAME:CDT
DTSTART:20260308T080000
END:DAYLIGHT
BEGIN:STANDARD
TZOFFSETFROM:-0500
TZOFFSETTO:-0600
TZNAME:CST
DTSTART:20261101T070000
END:STANDARD
END:VTIMEZONE
BEGIN:VEVENT
DTSTART;TZID=America/Chicago:20250821T190000
DTEND;TZID=America/Chicago:20250821T200000
DTSTAMP:20260420T153424
CREATED:20250811T162657Z
LAST-MODIFIED:20250811T162951Z
UID:21612-1755802800-1755806400@district35.org
SUMMARY:Membership Renewal Made Easy
DESCRIPTION:Membership Renewal Made Easy:\n \nMembership renewal is more than reminding people to pay their dues by September 30. Let’s explore together how best to keep the numbers of members renewing high while keeping your stress level low with Lori Geddes\, DTM\, and District 35 Finance Manager.\n\nRegister here: https://us02web.zoom.us/meeting/register/mAId-XSLToamvtoHJodl4g\n\nYou will receive an email from Zoom confirming your registration. You can then add the event to your calendar.
URL:https://district35.org/event/membership-renewal-made-easy/
CATEGORIES:District 35
END:VEVENT
END:VCALENDAR