BEGIN:VCALENDAR
VERSION:2.0
PRODID:-//District 35 Toastmasters - ECPv6.15.20//NONSGML v1.0//EN
CALSCALE:GREGORIAN
METHOD:PUBLISH
X-ORIGINAL-URL:https://district35.org
X-WR-CALDESC:Events for District 35 Toastmasters
REFRESH-INTERVAL;VALUE=DURATION:PT1H
X-Robots-Tag:noindex
X-PUBLISHED-TTL:PT1H
BEGIN:VTIMEZONE
TZID:America/Chicago
BEGIN:DAYLIGHT
TZOFFSETFROM:-0600
TZOFFSETTO:-0500
TZNAME:CDT
DTSTART:20240310T080000
END:DAYLIGHT
BEGIN:STANDARD
TZOFFSETFROM:-0500
TZOFFSETTO:-0600
TZNAME:CST
DTSTART:20241103T070000
END:STANDARD
BEGIN:DAYLIGHT
TZOFFSETFROM:-0600
TZOFFSETTO:-0500
TZNAME:CDT
DTSTART:20250309T080000
END:DAYLIGHT
BEGIN:STANDARD
TZOFFSETFROM:-0500
TZOFFSETTO:-0600
TZNAME:CST
DTSTART:20251102T070000
END:STANDARD
BEGIN:DAYLIGHT
TZOFFSETFROM:-0600
TZOFFSETTO:-0500
TZNAME:CDT
DTSTART:20260308T080000
END:DAYLIGHT
BEGIN:STANDARD
TZOFFSETFROM:-0500
TZOFFSETTO:-0600
TZNAME:CST
DTSTART:20261101T070000
END:STANDARD
END:VTIMEZONE
BEGIN:VEVENT
DTSTART;TZID=America/Chicago:20250802T090000
DTEND;TZID=America/Chicago:20250802T100000
DTSTAMP:20260420T135003
CREATED:20250725T014305Z
LAST-MODIFIED:20250727T021651Z
UID:21490-1754125200-1754128800@district35.org
SUMMARY:Why On Earth Is Your Club Low in Members?!
DESCRIPTION:In the 2024-25 Toastmasters program year\, many clubs in District 35 (and other districts) finished the year on June 30 with fewer than 12 members. \nWhy?! \nMany factors can impact a club’s membership. That’s a fact of life.\nYet\, many key actions can help INCREASE your club’s membership. That’s also a fact of life. \nOur presenter Keith Hardy\, DTM\, won’t be discussing your grandparents’ sugar and spice methods to grow club membership. Oh no–he will share ideas and actions that might be a bit uncomfortable\, yet will bear fruit with sustained higher club membership. \nKeith served as the 1996-97 District 6 Director\, leading nearly 300 clubs throughout Minnesota and northwestern Ontario. He is a member of three Toastmasters clubs that currently have fewer than 12 members\, but plan to have more than 12 members by June 30\, 2026. \nLet’s explore together how best to retain and grow your club’s membership. \nJoin Zoom Meeting\nhttps://us02web.zoom.us/j/86451049186?pwd=XRc3hDoius3LUgGcZPA94TJO9ETGBm.1 \nMeeting ID: 864 5104 9186\nPasscode: Welcome!
URL:https://district35.org/event/why-on-earth-is-your-club-low-in-members/
CATEGORIES:District 35
END:VEVENT
END:VCALENDAR