BEGIN:VCALENDAR
VERSION:2.0
PRODID:-//District 35 Toastmasters - ECPv6.15.20//NONSGML v1.0//EN
CALSCALE:GREGORIAN
METHOD:PUBLISH
X-ORIGINAL-URL:https://district35.org
X-WR-CALDESC:Events for District 35 Toastmasters
REFRESH-INTERVAL;VALUE=DURATION:PT1H
X-Robots-Tag:noindex
X-PUBLISHED-TTL:PT1H
BEGIN:VTIMEZONE
TZID:America/Chicago
BEGIN:DAYLIGHT
TZOFFSETFROM:-0600
TZOFFSETTO:-0500
TZNAME:CDT
DTSTART:20240310T080000
END:DAYLIGHT
BEGIN:STANDARD
TZOFFSETFROM:-0500
TZOFFSETTO:-0600
TZNAME:CST
DTSTART:20241103T070000
END:STANDARD
BEGIN:DAYLIGHT
TZOFFSETFROM:-0600
TZOFFSETTO:-0500
TZNAME:CDT
DTSTART:20250309T080000
END:DAYLIGHT
BEGIN:STANDARD
TZOFFSETFROM:-0500
TZOFFSETTO:-0600
TZNAME:CST
DTSTART:20251102T070000
END:STANDARD
BEGIN:DAYLIGHT
TZOFFSETFROM:-0600
TZOFFSETTO:-0500
TZNAME:CDT
DTSTART:20260308T080000
END:DAYLIGHT
BEGIN:STANDARD
TZOFFSETFROM:-0500
TZOFFSETTO:-0600
TZNAME:CST
DTSTART:20261101T070000
END:STANDARD
END:VTIMEZONE
BEGIN:VEVENT
DTSTART;TZID=America/Chicago:20250628T090000
DTEND;TZID=America/Chicago:20250628T100000
DTSTAMP:20260420T120742
CREATED:20250618T010500Z
LAST-MODIFIED:20250618T010856Z
UID:21334-1751101200-1751104800@district35.org
SUMMARY:Zoom Master Training
DESCRIPTION:Zoom Master Training\nSaturday\, June 28\, 9am-10am\nJoin Zoom Meeting\nhttps://us02web.zoom.us/j/89273299082?pwd=KEHflzeelxYahSkZ6NUtXuPZPrge7x.1 \nMeeting ID: 892 7329 9082 \nPasscode: Welcome! \n\nWant to impress your fellow club members\, friends\, colleagues\, and family with amazing Zoom meeting management skills? Of course you do! Come to the rescue the next time your workplace zoom master has to leave mid meeting and there is a presentation going on. Make the presenter look good by showing them how to share a PowerPoint and be visible while doing it. Get people to give instant feedback through Zoom polls. Join Paul Van Dyck\, our District’s Zoom Expert\, for tips\, tricks\, and plenty of humor\, as he turns you into a Zoom professional. This is your nudge to end the Toastmasters year strong and learn a practical\, relevant\, and in demand skill. Turn your Zoom fear into Zoom Mastery.\n\nContact Program Quality Director-Elect Yuriy Ksenidi\, warhawkforlife@gmail.com\, with questions.
URL:https://district35.org/event/zoom-master-training/
CATEGORIES:District 35
END:VEVENT
END:VCALENDAR