BEGIN:VCALENDAR
VERSION:2.0
PRODID:-//District 35 Toastmasters - ECPv6.15.20//NONSGML v1.0//EN
CALSCALE:GREGORIAN
METHOD:PUBLISH
X-WR-CALNAME:District 35 Toastmasters
X-ORIGINAL-URL:https://district35.org
X-WR-CALDESC:Events for District 35 Toastmasters
REFRESH-INTERVAL;VALUE=DURATION:PT1H
X-Robots-Tag:noindex
X-PUBLISHED-TTL:PT1H
BEGIN:VTIMEZONE
TZID:America/Chicago
BEGIN:DAYLIGHT
TZOFFSETFROM:-0600
TZOFFSETTO:-0500
TZNAME:CDT
DTSTART:20240310T080000
END:DAYLIGHT
BEGIN:STANDARD
TZOFFSETFROM:-0500
TZOFFSETTO:-0600
TZNAME:CST
DTSTART:20241103T070000
END:STANDARD
BEGIN:DAYLIGHT
TZOFFSETFROM:-0600
TZOFFSETTO:-0500
TZNAME:CDT
DTSTART:20250309T080000
END:DAYLIGHT
BEGIN:STANDARD
TZOFFSETFROM:-0500
TZOFFSETTO:-0600
TZNAME:CST
DTSTART:20251102T070000
END:STANDARD
BEGIN:DAYLIGHT
TZOFFSETFROM:-0600
TZOFFSETTO:-0500
TZNAME:CDT
DTSTART:20260308T080000
END:DAYLIGHT
BEGIN:STANDARD
TZOFFSETFROM:-0500
TZOFFSETTO:-0600
TZNAME:CST
DTSTART:20261101T070000
END:STANDARD
END:VTIMEZONE
BEGIN:VEVENT
DTSTART;TZID=America/Chicago:20251218T190000
DTEND;TZID=America/Chicago:20251218T200000
DTSTAMP:20260420T125542
CREATED:20251205T031835Z
LAST-MODIFIED:20251205T031835Z
UID:22007-1766084400-1766088000@district35.org
SUMMARY:Make your next club event bold with Canva!
DESCRIPTION:Make your next club event bold with Canva!\n\nThursday\, December 18\, 7pm-8pm\nRegistration: https://us02web.zoom.us/meeting/register/LoCsJDpiSEmkZSLD8S33dQ\n\nPresented by Teri McGregor\, Past District 35 Director\nLearn how to elevate your club’s marketing with Canva. Canva is an easy-to-use online design tool that lets anyone create professional-looking graphics\, flyers\, and social media content with drag-and-drop simplicity. In this one-hour session we’ll cover why it’s useful\, and how to create simple\, eye-catching flyers and social media posts. You’ll also learn how to apply the Toastmasters Brand Manual in Canva to keep your designs polished and on-brand. Perfect for anyone looking to quickly improve their club’s promotional materials.\n\nAttendees who want to follow along during this session are encouraged to create an account (free) with Canva.com
URL:https://district35.org/event/make-your-next-club-event-bold-with-canva/
CATEGORIES:District 35
END:VEVENT
END:VCALENDAR