BEGIN:VCALENDAR
VERSION:2.0
PRODID:-//District 35 Toastmasters - ECPv6.15.20//NONSGML v1.0//EN
CALSCALE:GREGORIAN
METHOD:PUBLISH
X-WR-CALNAME:District 35 Toastmasters
X-ORIGINAL-URL:https://district35.org
X-WR-CALDESC:Events for District 35 Toastmasters
REFRESH-INTERVAL;VALUE=DURATION:PT1H
X-Robots-Tag:noindex
X-PUBLISHED-TTL:PT1H
BEGIN:VTIMEZONE
TZID:America/Chicago
BEGIN:DAYLIGHT
TZOFFSETFROM:-0600
TZOFFSETTO:-0500
TZNAME:CDT
DTSTART:20240310T080000
END:DAYLIGHT
BEGIN:STANDARD
TZOFFSETFROM:-0500
TZOFFSETTO:-0600
TZNAME:CST
DTSTART:20241103T070000
END:STANDARD
BEGIN:DAYLIGHT
TZOFFSETFROM:-0600
TZOFFSETTO:-0500
TZNAME:CDT
DTSTART:20250309T080000
END:DAYLIGHT
BEGIN:STANDARD
TZOFFSETFROM:-0500
TZOFFSETTO:-0600
TZNAME:CST
DTSTART:20251102T070000
END:STANDARD
BEGIN:DAYLIGHT
TZOFFSETFROM:-0600
TZOFFSETTO:-0500
TZNAME:CDT
DTSTART:20260308T080000
END:DAYLIGHT
BEGIN:STANDARD
TZOFFSETFROM:-0500
TZOFFSETTO:-0600
TZNAME:CST
DTSTART:20261101T070000
END:STANDARD
END:VTIMEZONE
BEGIN:VEVENT
DTSTART;TZID=America/Chicago:20250918T190000
DTEND;TZID=America/Chicago:20250918T200000
DTSTAMP:20260420T152625
CREATED:20250725T013837Z
LAST-MODIFIED:20250727T021445Z
UID:21487-1758222000-1758225600@district35.org
SUMMARY:Speechcraft: giving people a taste of Toastmasters
DESCRIPTION:Speechcraft: giving people a taste of Toastmasters\n\n\nLearn what Speechcraft is and how it can be used to both introduce people to Toastmasters and bring people in to join your club. \nBrandon Birrenkott\, past Division Director\, and member of Sentry Toastmasters and Wausau Evening Toastmasters\, will share a recent Speechcraft his clubs have done. This interactive session will give you a solid overview of Speechcraft and tools to coordinate your own Speechcraft with the support of members of your club. \nJoin Zoom Meeting \nhttps://us02web.zoom.us/j/87465111206?pwd=Gw3q6BBWaCIHDHreCps1zwdC8SRCwh.1 \nMeeting ID: 874 6511 1206 \nPasscode: Welcome!
URL:https://district35.org/event/speechcraft/
CATEGORIES:District 35
END:VEVENT
END:VCALENDAR