BEGIN:VCALENDAR
VERSION:2.0
PRODID:-//District 35 Toastmasters - ECPv6.15.20//NONSGML v1.0//EN
CALSCALE:GREGORIAN
METHOD:PUBLISH
X-WR-CALNAME:District 35 Toastmasters
X-ORIGINAL-URL:https://district35.org
X-WR-CALDESC:Events for District 35 Toastmasters
REFRESH-INTERVAL;VALUE=DURATION:PT1H
X-Robots-Tag:noindex
X-PUBLISHED-TTL:PT1H
BEGIN:VTIMEZONE
TZID:America/Chicago
BEGIN:DAYLIGHT
TZOFFSETFROM:-0600
TZOFFSETTO:-0500
TZNAME:CDT
DTSTART:20240310T080000
END:DAYLIGHT
BEGIN:STANDARD
TZOFFSETFROM:-0500
TZOFFSETTO:-0600
TZNAME:CST
DTSTART:20241103T070000
END:STANDARD
BEGIN:DAYLIGHT
TZOFFSETFROM:-0600
TZOFFSETTO:-0500
TZNAME:CDT
DTSTART:20250309T080000
END:DAYLIGHT
BEGIN:STANDARD
TZOFFSETFROM:-0500
TZOFFSETTO:-0600
TZNAME:CST
DTSTART:20251102T070000
END:STANDARD
BEGIN:DAYLIGHT
TZOFFSETFROM:-0600
TZOFFSETTO:-0500
TZNAME:CDT
DTSTART:20260308T080000
END:DAYLIGHT
BEGIN:STANDARD
TZOFFSETFROM:-0500
TZOFFSETTO:-0600
TZNAME:CST
DTSTART:20261101T070000
END:STANDARD
END:VTIMEZONE
BEGIN:VEVENT
DTSTART;TZID=America/Chicago:20250831T190000
DTEND;TZID=America/Chicago:20250831T203000
DTSTAMP:20260420T110600
CREATED:20250824T221646Z
LAST-MODIFIED:20250824T221646Z
UID:21671-1756666800-1756672200@district35.org
SUMMARY:Club Public Relations Tactics
DESCRIPTION:Join Nancy McCulley\, District 35 Public Relations Manager\, to discuss ways you can promote your club. Meet members from clubs across the District (and beyond)\, network with peers\, and come away more confident in your ability to tell anyone what value Toastmasters offers to them. Everyone is welcome to attend this interactive and dynamic session! \nRegister in advance for this meeting:\nhttps://us02web.zoom.us/meeting/register/u0KRkYs8TT6c_Orpkv8fwA \nAfter registering\, you will receive a confirmation email containing information about joining the meeting. \n\nIf you have any questions\, the registration form has space to write them. You can also email Yuriy\, Program Quality Director\, warhawkforlife@gmail.com
URL:https://district35.org/event/club-public-relations-tactics/
CATEGORIES:District 35
END:VEVENT
END:VCALENDAR